BEGIN:VCALENDAR
VERSION:2.0
PRODID:-//heimatverein-wolfertschwenden.de - ECPv6.15.20//NONSGML v1.0//EN
CALSCALE:GREGORIAN
METHOD:PUBLISH
X-WR-CALNAME:heimatverein-wolfertschwenden.de
X-ORIGINAL-URL:https://heimatverein-wolfertschwenden.de
X-WR-CALDESC:Veranstaltungen für heimatverein-wolfertschwenden.de
REFRESH-INTERVAL;VALUE=DURATION:PT1H
X-Robots-Tag:noindex
X-PUBLISHED-TTL:PT1H
BEGIN:VTIMEZONE
TZID:Europe/Berlin
BEGIN:DAYLIGHT
TZOFFSETFROM:+0100
TZOFFSETTO:+0200
TZNAME:CEST
DTSTART:20230326T010000
END:DAYLIGHT
BEGIN:STANDARD
TZOFFSETFROM:+0200
TZOFFSETTO:+0100
TZNAME:CET
DTSTART:20231029T010000
END:STANDARD
BEGIN:DAYLIGHT
TZOFFSETFROM:+0100
TZOFFSETTO:+0200
TZNAME:CEST
DTSTART:20240331T010000
END:DAYLIGHT
BEGIN:STANDARD
TZOFFSETFROM:+0200
TZOFFSETTO:+0100
TZNAME:CET
DTSTART:20241027T010000
END:STANDARD
BEGIN:DAYLIGHT
TZOFFSETFROM:+0100
TZOFFSETTO:+0200
TZNAME:CEST
DTSTART:20250330T010000
END:DAYLIGHT
BEGIN:STANDARD
TZOFFSETFROM:+0200
TZOFFSETTO:+0100
TZNAME:CET
DTSTART:20251026T010000
END:STANDARD
END:VTIMEZONE
BEGIN:VEVENT
DTSTART;TZID=Europe/Berlin:20241207T140000
DTEND;TZID=Europe/Berlin:20241207T180000
DTSTAMP:20260420T180928
CREATED:20231110T180758Z
LAST-MODIFIED:20241204T074850Z
UID:324-1733580000-1733594400@heimatverein-wolfertschwenden.de
SUMMARY:Krippenausstellung Tag 1
DESCRIPTION:
URL:https://heimatverein-wolfertschwenden.de/event/krippenausstellung/
LOCATION:Schützenheim Niederdorf
END:VEVENT
BEGIN:VEVENT
DTSTART;TZID=Europe/Berlin:20241208T110000
DTEND;TZID=Europe/Berlin:20241208T180000
DTSTAMP:20260420T180928
CREATED:20241204T074936Z
LAST-MODIFIED:20241204T074936Z
UID:492-1733655600-1733680800@heimatverein-wolfertschwenden.de
SUMMARY:Krippenausstellung Tag 2
DESCRIPTION:
URL:https://heimatverein-wolfertschwenden.de/event/krippenausstellung-tag-2/
LOCATION:Schützenheim Niederdorf
END:VEVENT
END:VCALENDAR