BEGIN:VCALENDAR
VERSION:2.0
PRODID:-//heimatverein-wolfertschwenden.de - ECPv6.15.20//NONSGML v1.0//EN
CALSCALE:GREGORIAN
METHOD:PUBLISH
X-WR-CALNAME:heimatverein-wolfertschwenden.de
X-ORIGINAL-URL:https://heimatverein-wolfertschwenden.de
X-WR-CALDESC:Veranstaltungen für heimatverein-wolfertschwenden.de
REFRESH-INTERVAL;VALUE=DURATION:PT1H
X-Robots-Tag:noindex
X-PUBLISHED-TTL:PT1H
BEGIN:VTIMEZONE
TZID:Europe/Berlin
BEGIN:DAYLIGHT
TZOFFSETFROM:+0100
TZOFFSETTO:+0200
TZNAME:CEST
DTSTART:20230326T010000
END:DAYLIGHT
BEGIN:STANDARD
TZOFFSETFROM:+0200
TZOFFSETTO:+0100
TZNAME:CET
DTSTART:20231029T010000
END:STANDARD
BEGIN:DAYLIGHT
TZOFFSETFROM:+0100
TZOFFSETTO:+0200
TZNAME:CEST
DTSTART:20240331T010000
END:DAYLIGHT
BEGIN:STANDARD
TZOFFSETFROM:+0200
TZOFFSETTO:+0100
TZNAME:CET
DTSTART:20241027T010000
END:STANDARD
BEGIN:DAYLIGHT
TZOFFSETFROM:+0100
TZOFFSETTO:+0200
TZNAME:CEST
DTSTART:20250330T010000
END:DAYLIGHT
BEGIN:STANDARD
TZOFFSETFROM:+0200
TZOFFSETTO:+0100
TZNAME:CET
DTSTART:20251026T010000
END:STANDARD
END:VTIMEZONE
BEGIN:VEVENT
DTSTART;TZID=Europe/Berlin:20240501T100000
DTEND;TZID=Europe/Berlin:20240501T150000
DTSTAMP:20260421T071640
CREATED:20231110T180308Z
LAST-MODIFIED:20240417T123837Z
UID:314-1714557600-1714575600@heimatverein-wolfertschwenden.de
SUMMARY:Maibaum-Frühschoppen
DESCRIPTION:30 Jahre Heimatverein Wolfertschwenden \nAnlässlich unseres Jubiläums veranstalten wir am 01. Mai 2024 vor dem Heimathaus Niederdorf ein Maifest mit Weißwurst-Frühschoppen und anschließend Kaffee & Kuchen.\nBeginn: 10:00 Uhr (Bei schlechter Witterung weichen wir ins Schützenheim Niederdorf aus).\nHierzu laden wir Euch recht herzlich ein – wir sehen uns 🤗 \nEuer Heimatverein
URL:https://heimatverein-wolfertschwenden.de/event/maibaum-fest/
LOCATION:Heimathaus Niederdorf\, Allgäuer Str. 16a\, Wolfertschwenden-Niederdorf\, Bayern\, 87787\, Deutschland
END:VEVENT
END:VCALENDAR