BEGIN:VCALENDAR
VERSION:2.0
PRODID:-//heimatverein-wolfertschwenden.de - ECPv6.15.20//NONSGML v1.0//EN
CALSCALE:GREGORIAN
METHOD:PUBLISH
X-ORIGINAL-URL:https://heimatverein-wolfertschwenden.de
X-WR-CALDESC:Veranstaltungen für heimatverein-wolfertschwenden.de
REFRESH-INTERVAL;VALUE=DURATION:PT1H
X-Robots-Tag:noindex
X-PUBLISHED-TTL:PT1H
BEGIN:VTIMEZONE
TZID:Europe/Berlin
BEGIN:DAYLIGHT
TZOFFSETFROM:+0100
TZOFFSETTO:+0200
TZNAME:CEST
DTSTART:20230326T010000
END:DAYLIGHT
BEGIN:STANDARD
TZOFFSETFROM:+0200
TZOFFSETTO:+0100
TZNAME:CET
DTSTART:20231029T010000
END:STANDARD
BEGIN:DAYLIGHT
TZOFFSETFROM:+0100
TZOFFSETTO:+0200
TZNAME:CEST
DTSTART:20240331T010000
END:DAYLIGHT
BEGIN:STANDARD
TZOFFSETFROM:+0200
TZOFFSETTO:+0100
TZNAME:CET
DTSTART:20241027T010000
END:STANDARD
BEGIN:DAYLIGHT
TZOFFSETFROM:+0100
TZOFFSETTO:+0200
TZNAME:CEST
DTSTART:20250330T010000
END:DAYLIGHT
BEGIN:STANDARD
TZOFFSETFROM:+0200
TZOFFSETTO:+0100
TZNAME:CET
DTSTART:20251026T010000
END:STANDARD
END:VTIMEZONE
BEGIN:VEVENT
DTSTART;TZID=Europe/Berlin:20240413T130000
DTEND;TZID=Europe/Berlin:20240413T180000
DTSTAMP:20260425T141240
CREATED:20231110T175947Z
LAST-MODIFIED:20240229T115229Z
UID:311-1713013200-1713031200@heimatverein-wolfertschwenden.de
SUMMARY:Frühjahrsausflug - Eiszeitsafari Allgäu
DESCRIPTION:Wir besuchen in Kempten die Sonderausstellung „Eiszeitsafari Kempten“. Hier erhalten wir eine ca. 60-minütige abwechslungsreiche Führung durch die Ausstellung.\nDie Ausstellung ist auch insbesondere für Familien mit Kinder interessant.
URL:https://heimatverein-wolfertschwenden.de/event/fruehjahrsausflug/
LOCATION:Bayern
CATEGORIES:Ausflug-Wanderung
END:VEVENT
END:VCALENDAR